BEGIN:VCALENDAR
VERSION:2.0
PRODID:-//wp-events-plugin.com//7.2.3.1//EN
TZID:America/Los_Angeles
X-WR-TIMEZONE:America/Los_Angeles
BEGIN:VEVENT
UID:546@templebethdavid.org
DTSTART;TZID=America/Los_Angeles:20260503T080000
DTEND;TZID=America/Los_Angeles:20260503T110000
DTSTAMP:20260423T012339Z
URL:https://www.templebethdavid.org/events/5k-run-walk/
SUMMARY:5K Run & Walk
DESCRIPTION:Beth David Young Professionals is forming a team for the upcomi
 ng “Move for Mental Health” 5K hosted by Jewish Family and Children's 
 Service\, and we’d love for the broader Beth David community to join us!
 \n\nCome walk\, run\, and show your support for mental health awareness wh
 ile representing Beth David together.\n\nInterested in joining our team? E
 mail us at&nbsp\;youngprofessionals@templebethdavid.org&nbsp\;by March 28t
 h to sign up!&nbsp\;\n\nClick here for Flyer
ATTACH;FMTTYPE=image/jpeg:https://www.templebethdavid.org/wp-content/uploa
 ds/2021/03/youngprofessionlas.logo_.png
END:VEVENT
BEGIN:VTIMEZONE
TZID:America/Los_Angeles
X-LIC-LOCATION:America/Los_Angeles
BEGIN:DAYLIGHT
DTSTART:20260308T030000
TZOFFSETFROM:-0800
TZOFFSETTO:-0700
TZNAME:PDT
END:DAYLIGHT
END:VTIMEZONE
END:VCALENDAR