BEGIN:VCALENDAR
VERSION:2.0
PRODID:-//wp-events-plugin.com//7.2.3.1//EN
TZID:America/Los_Angeles
X-WR-TIMEZONE:America/Los_Angeles
BEGIN:VEVENT
UID:545@templebethdavid.org
DTSTART;TZID=America/Los_Angeles:20260510T100000
DTEND;TZID=America/Los_Angeles:20260510T123000
DTSTAMP:20260421T195730Z
URL:https://www.templebethdavid.org/events/mothers-day-brunch/
SUMMARY:Mother's Day Brunch
DESCRIPTION:Join us for Mother's Day Brunch on Sunday\, May 10 @ 10:00 am.\
 n\nTemple mothers are FREE!\n\nWe will have a delicious brunch with mimosa
 s and amazing entertainment from our Junior Choir.\n\nRSVP by May 5 for ea
 rly bird pricing!\n\nClick here for flyer\n\n
ATTACH;FMTTYPE=image/jpeg:https://www.templebethdavid.org/wp-content/uploa
 ds/2020/05/mothers-day-e1588795383208.jpg
CATEGORIES:Brotherhood
END:VEVENT
BEGIN:VTIMEZONE
TZID:America/Los_Angeles
X-LIC-LOCATION:America/Los_Angeles
BEGIN:DAYLIGHT
DTSTART:20260308T030000
TZOFFSETFROM:-0800
TZOFFSETTO:-0700
TZNAME:PDT
END:DAYLIGHT
END:VTIMEZONE
END:VCALENDAR