BEGIN:VCALENDAR
VERSION:2.0
PRODID:-//wp-events-plugin.com//7.2.3.1//EN
TZID:America/Los_Angeles
X-WR-TIMEZONE:America/Los_Angeles
BEGIN:VEVENT
UID:549@templebethdavid.org
DTSTART;TZID=America/Los_Angeles:20260509T090000
DTEND;TZID=America/Los_Angeles:20260509T103000
DTSTAMP:20260423T012756Z
URL:https://www.templebethdavid.org/events/torah-study-with-robin-3/
SUMMARY:Torah Study with Robin
DESCRIPTION:Zoom link is meeting&nbsp\;ID&nbsp\;648 428 7010\n\nPasscode is
  Shalom6100\n\n
ATTACH;FMTTYPE=image/jpeg:https://www.templebethdavid.org/wp-content/uploa
 ds/2026/02/unnamed-4.png
END:VEVENT
BEGIN:VTIMEZONE
TZID:America/Los_Angeles
X-LIC-LOCATION:America/Los_Angeles
BEGIN:DAYLIGHT
DTSTART:20260308T030000
TZOFFSETFROM:-0800
TZOFFSETTO:-0700
TZNAME:PDT
END:DAYLIGHT
END:VTIMEZONE
END:VCALENDAR