BEGIN:VCALENDAR
VERSION:2.0
PRODID:-//wp-events-plugin.com//7.2.3.1//EN
TZID:America/Los_Angeles
X-WR-TIMEZONE:America/Los_Angeles
BEGIN:VEVENT
UID:544@templebethdavid.org
DTSTART;TZID=America/Los_Angeles:20260530T190000
DTEND;TZID=America/Los_Angeles:20260530T220000
DTSTAMP:20260327T171928Z
URL:https://www.templebethdavid.org/events/viva-las-vegas-casino-night/
SUMMARY:"Viva Las Vegas" Casino Night
DESCRIPTION:Join us for a night of great food\, Vegas cocktails\, opportuni
 ty Raffle\, and more!\n\nBlackjack\, Roulette\, Craps\, and 3-card Poker\n
 \nSponsorships: Platinum $1000\, Gold $500\, Silver $250\n\nAdmission: $60
  / $70 after May 14\n\nIncludes $500 Play Money (Re-buys Available)\n\nRSV
 P by: May 22 - tbdavid@templebethdavid.org\, online\, or call the office (
 714) 892-6623\n\nClick here for Flyer\n\n
ATTACH;FMTTYPE=image/jpeg:https://www.templebethdavid.org/wp-content/uploa
 ds/2026/03/EMERGENCY-PREPAREDNESS-ACTIVE-SHOOTER-TRAINING-LOGO-1.png
END:VEVENT
BEGIN:VTIMEZONE
TZID:America/Los_Angeles
X-LIC-LOCATION:America/Los_Angeles
BEGIN:DAYLIGHT
DTSTART:20260308T030000
TZOFFSETFROM:-0800
TZOFFSETTO:-0700
TZNAME:PDT
END:DAYLIGHT
END:VTIMEZONE
END:VCALENDAR